BEGIN:VCALENDAR
VERSION:2.0
PRODID:-//VantagePoint Magazine - ECPv6.15.20//NONSGML v1.0//EN
CALSCALE:GREGORIAN
METHOD:PUBLISH
X-WR-CALNAME:VantagePoint Magazine
X-ORIGINAL-URL:https://vantagepointmag.co.uk
X-WR-CALDESC:Events for VantagePoint Magazine
REFRESH-INTERVAL;VALUE=DURATION:PT1H
X-Robots-Tag:noindex
X-PUBLISHED-TTL:PT1H
BEGIN:VTIMEZONE
TZID:Europe/London
BEGIN:DAYLIGHT
TZOFFSETFROM:+0000
TZOFFSETTO:+0100
TZNAME:BST
DTSTART:20250330T010000
END:DAYLIGHT
BEGIN:STANDARD
TZOFFSETFROM:+0100
TZOFFSETTO:+0000
TZNAME:GMT
DTSTART:20251026T010000
END:STANDARD
BEGIN:DAYLIGHT
TZOFFSETFROM:+0000
TZOFFSETTO:+0100
TZNAME:BST
DTSTART:20260329T010000
END:DAYLIGHT
BEGIN:STANDARD
TZOFFSETFROM:+0100
TZOFFSETTO:+0000
TZNAME:GMT
DTSTART:20261025T010000
END:STANDARD
BEGIN:DAYLIGHT
TZOFFSETFROM:+0000
TZOFFSETTO:+0100
TZNAME:BST
DTSTART:20270328T010000
END:DAYLIGHT
BEGIN:STANDARD
TZOFFSETFROM:+0100
TZOFFSETTO:+0000
TZNAME:GMT
DTSTART:20271031T010000
END:STANDARD
END:VTIMEZONE
BEGIN:VEVENT
DTSTART;TZID=Europe/London:20260627T193000
DTEND;TZID=Europe/London:20260627T213000
DTSTAMP:20260421T085953
CREATED:20260409T075545Z
LAST-MODIFIED:20260409T075545Z
UID:10029525-1782588600-1782595800@vantagepointmag.co.uk
SUMMARY:Summer Classics - Elgar and Mendelssohn
DESCRIPTION:Woking Symphony Orchestra’s final concert of the 2025/26 season\, ‘Summer Classics’ will take place at the Welcome Church in Woking on Saturday 27 June. Featuring Bax’s Tintagel\, Elgar’s Falstaff (which Elgar himself considered to be his finest orchestral work)\, and Mendelssohn’s brilliant Violin Concerto\, this will be a fantastic musical evening. Tickets available at www.wokingso.org.uk or on the door – just £5 for under 21s!
URL:https://vantagepointmag.co.uk/jottings/summer-classics-elgar-and-mendelssohn/
LOCATION:The Welcome Church\, The Welcome Church\, 1-5 Church St West\, Woking\, GU21 6DJ\, United Kingdom
ATTACH;FMTTYPE=image/jpeg:https://vantagepointmag.co.uk/wp-content/uploads/2026/04/1775310945149-9eeb2331-36f4-4e6b-a002-f21e88cb1fefpng_1.jpg
ORGANIZER;CN="Woking Symphony Orchestra":MAILTO:wso2011@hotmail.co.uk
END:VEVENT
END:VCALENDAR