BEGIN:VCALENDAR
VERSION:2.0
PRODID:-//VantagePoint Magazine - ECPv6.15.20//NONSGML v1.0//EN
CALSCALE:GREGORIAN
METHOD:PUBLISH
X-ORIGINAL-URL:https://vantagepointmag.co.uk
X-WR-CALDESC:Events for VantagePoint Magazine
REFRESH-INTERVAL;VALUE=DURATION:PT1H
X-Robots-Tag:noindex
X-PUBLISHED-TTL:PT1H
BEGIN:VTIMEZONE
TZID:Europe/London
BEGIN:DAYLIGHT
TZOFFSETFROM:+0000
TZOFFSETTO:+0100
TZNAME:BST
DTSTART:20250330T010000
END:DAYLIGHT
BEGIN:STANDARD
TZOFFSETFROM:+0100
TZOFFSETTO:+0000
TZNAME:GMT
DTSTART:20251026T010000
END:STANDARD
BEGIN:DAYLIGHT
TZOFFSETFROM:+0000
TZOFFSETTO:+0100
TZNAME:BST
DTSTART:20260329T010000
END:DAYLIGHT
BEGIN:STANDARD
TZOFFSETFROM:+0100
TZOFFSETTO:+0000
TZNAME:GMT
DTSTART:20261025T010000
END:STANDARD
BEGIN:DAYLIGHT
TZOFFSETFROM:+0000
TZOFFSETTO:+0100
TZNAME:BST
DTSTART:20270328T010000
END:DAYLIGHT
BEGIN:STANDARD
TZOFFSETFROM:+0100
TZOFFSETTO:+0000
TZNAME:GMT
DTSTART:20271031T010000
END:STANDARD
END:VTIMEZONE
BEGIN:VEVENT
DTSTART;TZID=Europe/London:20260415T103000
DTEND;TZID=Europe/London:20260415T123000
DTSTAMP:20260420T101515
CREATED:20260408T130903Z
LAST-MODIFIED:20260408T130903Z
UID:10029524-1776249000-1776256200@vantagepointmag.co.uk
SUMMARY:Farnham Friends Casual Coffee Morning
DESCRIPTION:Why not come and make new friends and have a natter\, in the lovely Bush Hotel at Farnham. Find out more about your local Oddfellows\, everyone’s welcome!
URL:https://vantagepointmag.co.uk/jottings/farnham-friends-casual-coffee-morning/
LOCATION:The Bush Hotel\, The Borough\, Farnham\, Surrey\, GU9 7NN\, United Kingdom
ATTACH;FMTTYPE=image/jpeg:https://vantagepointmag.co.uk/wp-content/uploads/2026/04/coffee-1803-scaled.jpg
ORGANIZER;CN="The Oddfellows Society":MAILTO:concord@oddfellows.co.uk
END:VEVENT
END:VCALENDAR