BEGIN:VCALENDAR
VERSION:2.0
PRODID:-//VantagePoint Magazine - ECPv6.15.20//NONSGML v1.0//EN
CALSCALE:GREGORIAN
METHOD:PUBLISH
X-WR-CALNAME:VantagePoint Magazine
X-ORIGINAL-URL:https://vantagepointmag.co.uk
X-WR-CALDESC:Events for VantagePoint Magazine
REFRESH-INTERVAL;VALUE=DURATION:PT1H
X-Robots-Tag:noindex
X-PUBLISHED-TTL:PT1H
BEGIN:VTIMEZONE
TZID:Europe/London
BEGIN:DAYLIGHT
TZOFFSETFROM:+0000
TZOFFSETTO:+0100
TZNAME:BST
DTSTART:20250330T010000
END:DAYLIGHT
BEGIN:STANDARD
TZOFFSETFROM:+0100
TZOFFSETTO:+0000
TZNAME:GMT
DTSTART:20251026T010000
END:STANDARD
BEGIN:DAYLIGHT
TZOFFSETFROM:+0000
TZOFFSETTO:+0100
TZNAME:BST
DTSTART:20260329T010000
END:DAYLIGHT
BEGIN:STANDARD
TZOFFSETFROM:+0100
TZOFFSETTO:+0000
TZNAME:GMT
DTSTART:20261025T010000
END:STANDARD
BEGIN:DAYLIGHT
TZOFFSETFROM:+0000
TZOFFSETTO:+0100
TZNAME:BST
DTSTART:20270328T010000
END:DAYLIGHT
BEGIN:STANDARD
TZOFFSETFROM:+0100
TZOFFSETTO:+0000
TZNAME:GMT
DTSTART:20271031T010000
END:STANDARD
END:VTIMEZONE
BEGIN:VEVENT
DTSTART;TZID=Europe/London:20260425T100000
DTEND;TZID=Europe/London:20260425T130000
DTSTAMP:20260419T141048
CREATED:20260304T094705Z
LAST-MODIFIED:20260304T094705Z
UID:10028611-1777111200-1777122000@vantagepointmag.co.uk
SUMMARY:Walk for Wellness
DESCRIPTION:Want to have fun and raise money for The Therapy Garden in Normandy? \nJoin our Walk for Wellness on Saturday 25th April 2026 – 10am. \nA choice of two routes: 5 miles or 3 miles\, starting and finishing at: \nThe Therapy Garden\, Manor Fruit Farm\, Glaziers lane\, Normandy\, GU3 2DT
URL:https://vantagepointmag.co.uk/jottings/walk-for-wellness-2/
LOCATION:The Therapy Garden – Normandy\, Manor Fruit Farm\, Glaziers Lane\, Normandy\, Surrey\, GU3 2DT\, United Kingdom
ATTACH;FMTTYPE=image/jpeg:https://vantagepointmag.co.uk/wp-content/uploads/2026/03/wfw-logo-26.jpg
ORGANIZER;CN="The Therapy Garden":MAILTO:admin@thetherapygarden.org
END:VEVENT
BEGIN:VEVENT
DTSTART;TZID=Europe/London:20260425T100000
DTEND;TZID=Europe/London:20260425T140000
DTSTAMP:20260419T141048
CREATED:20260226T110831Z
LAST-MODIFIED:20260226T110831Z
UID:10028516-1777111200-1777125600@vantagepointmag.co.uk
SUMMARY:Walk for Wellness
DESCRIPTION:Saturday 25th April 2026 – 10am \nA choice of two routes: 5 miles or 3 miles\, starting and finishing at: \nThe Therapy Garden\, Manor Fruit Farm\, Glaziers lane\, Normandy\, GU3 2DT \nJoin us on a walk to boost your wellness for 2026 and raise funds for The Therapy Garden. There will be refreshments throughout the morning at The Therapy Garden. \n£15 for adults (16+) \n£10 for children \n£30 for family of 4 (2 adults\, 2 children; or 1 adult and 3 children) \nDogs come free! \nRegister online at https://www.thetherapygarden.org/workshops-activities/sponsored-walk-2025/ \nFor support with registration please contact below: \nContact stephen.jones@thetherapygarden.org \nOr call 01483 813846
URL:https://vantagepointmag.co.uk/jottings/walk-for-wellness/
LOCATION:The Therapy Garden – Normandy\, Manor Fruit Farm\, Glaziers Lane\, Normandy\, Surrey\, GU3 2DT\, United Kingdom
ATTACH;FMTTYPE=image/jpeg:https://vantagepointmag.co.uk/wp-content/uploads/2026/02/Walk-for-Wellness.jpg
ORGANIZER;CN="The Therapy Garden":MAILTO:admin@thetherapygarden.org
END:VEVENT
BEGIN:VEVENT
DTSTART;TZID=Europe/London:20260517T100000
DTEND;TZID=Europe/London:20260517T160000
DTSTAMP:20260419T141048
CREATED:20251110T090940Z
LAST-MODIFIED:20251110T090940Z
UID:10025007-1779012000-1779033600@vantagepointmag.co.uk
SUMMARY:National Garden Scheme - The Therapy Garden Normandy
DESCRIPTION:Our first NGS open day this year is on Sunday 17th May 2026. \nWe look forward to welcoming you into the garden\, there will be refreshments including a BBQ\, lots of produce and plants to buy and fun activities for the children! \nDogs welcome\nWheelchair accessible\nOpen from 10-4pm\nFree parking \nThe Therapy Garden\, Manor Fruit Farm\, Normandy\, near Guildford. GU3 2DT
URL:https://vantagepointmag.co.uk/jottings/national-garden-scheme-the-therapy-garden-normandy/
LOCATION:The Therapy Garden – Normandy\, Manor Fruit Farm\, Glaziers Lane\, Normandy\, Surrey\, GU3 2DT\, United Kingdom
ATTACH;FMTTYPE=image/jpeg:https://vantagepointmag.co.uk/wp-content/uploads/2025/11/OurGarden2019.jpg
ORGANIZER;CN="The Therapy Garden":MAILTO:admin@thetherapygarden.org
END:VEVENT
END:VCALENDAR