BEGIN:VCALENDAR
VERSION:2.0
PRODID:-//VantagePoint Magazine - ECPv6.15.20//NONSGML v1.0//EN
CALSCALE:GREGORIAN
METHOD:PUBLISH
X-ORIGINAL-URL:https://vantagepointmag.co.uk
X-WR-CALDESC:Events for VantagePoint Magazine
REFRESH-INTERVAL;VALUE=DURATION:PT1H
X-Robots-Tag:noindex
X-PUBLISHED-TTL:PT1H
BEGIN:VTIMEZONE
TZID:Europe/London
BEGIN:DAYLIGHT
TZOFFSETFROM:+0000
TZOFFSETTO:+0100
TZNAME:BST
DTSTART:20250330T010000
END:DAYLIGHT
BEGIN:STANDARD
TZOFFSETFROM:+0100
TZOFFSETTO:+0000
TZNAME:GMT
DTSTART:20251026T010000
END:STANDARD
BEGIN:DAYLIGHT
TZOFFSETFROM:+0000
TZOFFSETTO:+0100
TZNAME:BST
DTSTART:20260329T010000
END:DAYLIGHT
BEGIN:STANDARD
TZOFFSETFROM:+0100
TZOFFSETTO:+0000
TZNAME:GMT
DTSTART:20261025T010000
END:STANDARD
BEGIN:DAYLIGHT
TZOFFSETFROM:+0000
TZOFFSETTO:+0100
TZNAME:BST
DTSTART:20270328T010000
END:DAYLIGHT
BEGIN:STANDARD
TZOFFSETFROM:+0100
TZOFFSETTO:+0000
TZNAME:GMT
DTSTART:20271031T010000
END:STANDARD
END:VTIMEZONE
BEGIN:VEVENT
DTSTART;TZID=Europe/London:20260520T150000
DTEND;TZID=Europe/London:20260520T170000
DTSTAMP:20260421T162710
CREATED:20260122T160322Z
LAST-MODIFIED:20260122T160322Z
UID:10027229-1779289200-1779296400@vantagepointmag.co.uk
SUMMARY:CommuniTEA - An Afternoon Tea at The Meath Epilepsy Charity
DESCRIPTION:Support The Meath by enjoying Afternoon Tea with friends at The Hive Café.\n20th May 2026 3.15pm-4.45pm \nCome along for a friendly welcome chat about The Meath and enjoy a selection of tasty homemade finger sandwiches\, cakes and scone with clotted cream and jam\, served with unlimited English breakfast tea. \nPre Booking only- Tickets £12.50\nBook you tickets at meath.org.uk
URL:https://vantagepointmag.co.uk/jottings/communitea-an-afternoon-tea-at-the-meath-epilepsy-charity/
LOCATION:Godalming
ATTACH;FMTTYPE=image/jpeg:https://vantagepointmag.co.uk/wp-content/uploads/2026/01/May-CommuniTEA-social-sq.jpg
END:VEVENT
END:VCALENDAR