BEGIN:VCALENDAR
VERSION:2.0
PRODID:-//VantagePoint Magazine - ECPv6.15.20//NONSGML v1.0//EN
CALSCALE:GREGORIAN
METHOD:PUBLISH
X-ORIGINAL-URL:https://vantagepointmag.co.uk
X-WR-CALDESC:Events for VantagePoint Magazine
REFRESH-INTERVAL;VALUE=DURATION:PT1H
X-Robots-Tag:noindex
X-PUBLISHED-TTL:PT1H
BEGIN:VTIMEZONE
TZID:Europe/London
BEGIN:DAYLIGHT
TZOFFSETFROM:+0000
TZOFFSETTO:+0100
TZNAME:BST
DTSTART:20250330T010000
END:DAYLIGHT
BEGIN:STANDARD
TZOFFSETFROM:+0100
TZOFFSETTO:+0000
TZNAME:GMT
DTSTART:20251026T010000
END:STANDARD
BEGIN:DAYLIGHT
TZOFFSETFROM:+0000
TZOFFSETTO:+0100
TZNAME:BST
DTSTART:20260329T010000
END:DAYLIGHT
BEGIN:STANDARD
TZOFFSETFROM:+0100
TZOFFSETTO:+0000
TZNAME:GMT
DTSTART:20261025T010000
END:STANDARD
BEGIN:DAYLIGHT
TZOFFSETFROM:+0000
TZOFFSETTO:+0100
TZNAME:BST
DTSTART:20270328T010000
END:DAYLIGHT
BEGIN:STANDARD
TZOFFSETFROM:+0100
TZOFFSETTO:+0000
TZNAME:GMT
DTSTART:20271031T010000
END:STANDARD
END:VTIMEZONE
BEGIN:VEVENT
DTSTART;TZID=Europe/London:20260719T110000
DTEND;TZID=Europe/London:20260719T140000
DTSTAMP:20260421T203812
CREATED:20260401T080311Z
LAST-MODIFIED:20260401T080315Z
UID:10029204-1784458800-1784469600@vantagepointmag.co.uk
SUMMARY:Forest Bathing in Shere – July Summer Immersion
DESCRIPTION:Guided by experienced forest bathing practitioners\, this restorative 3-hour immersion in nature (no water involved) invites you to slow down and reconnect with nature through your senses. Forest bathing (Shinrin-yoku) is not about distance\, but about mindful presence—gently awakening awareness through breath\, birdsong\, scent and the play of light through the trees\, allowing the body and mind to soften and reset. \nTaking place at the beautiful Harry Edwards Foundation on Sunday 19th July (11am–2pm)\, this midsummer session offers rich greenery\, warm light and the full vitality of the season at its peak. \nTo maintain a calm and undisturbed environment\, these sessions are designed for adults\, and we kindly ask that dogs are not brought along. \nSuitable for all\, no experience needed. Advance booking is required\, with bookings closing at 2pm the day before.
URL:https://vantagepointmag.co.uk/jottings/forest-bathing-in-shere-july-summer-immersion/
LOCATION:Harry Edwards Foundation\, Burrows Lea Country House\, Hook Lane\, Shere\, Surrey\, GU5 9QG\, United Kingdom
ATTACH;FMTTYPE=image/jpeg:https://vantagepointmag.co.uk/wp-content/uploads/2026/03/WhatsApp-Image-2021-08-15-at-22.45.03-2.jpeg
ORGANIZER;CN="Harmony In Nature":MAILTO:katieandjo@harmonyinnature.uk
END:VEVENT
BEGIN:VEVENT
DTSTART;TZID=Europe/London:20260726T110000
DTEND;TZID=Europe/London:20260726T140000
DTSTAMP:20260421T203812
CREATED:20260331T143848Z
LAST-MODIFIED:20260331T143848Z
UID:10029140-1785063600-1785074400@vantagepointmag.co.uk
SUMMARY:Forest Bathing Among the Bluebells | £39.77
DESCRIPTION:Join a guided Forest Bathing experience in the tranquil grounds of Harry Edwards Foundation\, as spring bluebells begin to carpet the woodland. \nForest bathing is the mindful practice of slowing down in nature\, using your senses to fully engage with the woodland environment. Through a series of gentle guided invitations\, you’ll reconnect with the sights\, sounds and scents of the natural world while enjoying a relaxed walk through private woodland. \nThe session concludes with a deeply restorative ‘treelaxation’\, a guided meditation beneath the trees. Despite the name\, forest bathing involves no water—just a gentle immersion in nature. \nSpending time in woodland is known to support wellbeing\, helping to reduce stress\, support the immune system\, and restore balance to both body and mind. \nSessions run in most weather conditions (except high winds or storms)\, so please dress appropriately. \nBooking: via the Harmony Healing website (by 2pm the day before)
URL:https://vantagepointmag.co.uk/jottings/forest-bathing-among-the-bluebells-39-77/2026-07-26/
LOCATION:Harry Edwards Foundation\, Burrows Lea Country House\, Hook Lane\, Shere\, Surrey\, GU5 9QG\, United Kingdom
ATTACH;FMTTYPE=image/png:https://vantagepointmag.co.uk/wp-content/uploads/2026/03/Forest-Bathing-at-Harry-Edwards-26-4-26.png
ORGANIZER;CN="Harmony In Nature":MAILTO:katieandjo@harmonyinnature.uk
END:VEVENT
END:VCALENDAR