BEGIN:VCALENDAR
VERSION:2.0
PRODID:-//VantagePoint Magazine - ECPv6.15.20//NONSGML v1.0//EN
CALSCALE:GREGORIAN
METHOD:PUBLISH
X-WR-CALNAME:VantagePoint Magazine
X-ORIGINAL-URL:https://vantagepointmag.co.uk
X-WR-CALDESC:Events for VantagePoint Magazine
REFRESH-INTERVAL;VALUE=DURATION:PT1H
X-Robots-Tag:noindex
X-PUBLISHED-TTL:PT1H
BEGIN:VTIMEZONE
TZID:Europe/London
BEGIN:DAYLIGHT
TZOFFSETFROM:+0000
TZOFFSETTO:+0100
TZNAME:BST
DTSTART:20250330T010000
END:DAYLIGHT
BEGIN:STANDARD
TZOFFSETFROM:+0100
TZOFFSETTO:+0000
TZNAME:GMT
DTSTART:20251026T010000
END:STANDARD
BEGIN:DAYLIGHT
TZOFFSETFROM:+0000
TZOFFSETTO:+0100
TZNAME:BST
DTSTART:20260329T010000
END:DAYLIGHT
BEGIN:STANDARD
TZOFFSETFROM:+0100
TZOFFSETTO:+0000
TZNAME:GMT
DTSTART:20261025T010000
END:STANDARD
BEGIN:DAYLIGHT
TZOFFSETFROM:+0000
TZOFFSETTO:+0100
TZNAME:BST
DTSTART:20270328T010000
END:DAYLIGHT
BEGIN:STANDARD
TZOFFSETFROM:+0100
TZOFFSETTO:+0000
TZNAME:GMT
DTSTART:20271031T010000
END:STANDARD
END:VTIMEZONE
BEGIN:VEVENT
DTSTART;TZID=Europe/London:20260607T120000
DTEND;TZID=Europe/London:20260607T163000
DTSTAMP:20260421T190850
CREATED:20260325T090209Z
LAST-MODIFIED:20260325T090209Z
UID:10029104-1780833600-1780849800@vantagepointmag.co.uk
SUMMARY:Peaslake Open Gardens
DESCRIPTION:Peaslake Open Gardens showcases some of the most stunning gardens in the Surrey Hills. Join us to explore the gardens on Sunday 7th June\, between 12:00-4:30pm. Refuel with tea & a slice of famous Peaslake homemade cake\, enjoy live music\, children’s activities\, buy great value plants\, homemade produce and much more! \nPurchase tickets beforehand\, or on the day\, from Peaslake Village Stores. Proceeds go to Peaslake Schools Trust.
URL:https://vantagepointmag.co.uk/jottings/peaslake-open-gardens/
LOCATION:Peaslake Village Hall\, Walking Bottom\, Peaslake\, Surrey\, GU5 9RR\, United Kingdom
ATTACH;FMTTYPE=image/jpeg:https://vantagepointmag.co.uk/wp-content/uploads/2026/03/FAFF649C-DED6-43FA-960E-B2FE04535DE3-scaled.jpg
END:VEVENT
BEGIN:VEVENT
DTSTART;TZID=Europe/London:20260607T130000
DTEND;TZID=Europe/London:20260607T173000
DTSTAMP:20260421T190850
CREATED:20260331T080944Z
LAST-MODIFIED:20260331T080944Z
UID:10029131-1780837200-1780853400@vantagepointmag.co.uk
SUMMARY:Petworth's Secret Garden Trail
DESCRIPTION:Petworth’s much loved Secret Gardens Trail returns\, in aid of Petworth’s Community Wellbeing Garden; ‘ Where Nature Heals and Community Grows.’\nVisitors are invited to enjoy a magical afternoon exploring some of the town’s most beautiful hidden spaces\, from sweeping country gardens and elegant courtyards to abundant ‘no dig’ organic allotments\, with entertainment\, live music\, refreshments and a children’s trail.\nAdvance tickets available from:\n• Spriggs Florist\, Petworth (cash)\n• Community Wellbeing Garden stall at Petworth Farmers Market\n• Online: https://tinyurl.com/SecretGardens2026
URL:https://vantagepointmag.co.uk/jottings/petworths-secret-garden-trail/
LOCATION:Rosemary Gardens\, Petworth\, next to Petworth Main Car Park\, Petworth\, West Sussex\, Gu28 0Ap\, United Kingdom
ATTACH;FMTTYPE=image/jpeg:https://vantagepointmag.co.uk/wp-content/uploads/2026/03/Spy-hole-scaled.jpg
ORGANIZER;CN="Petworth's Community Wellbeing Garden":MAILTO:kate@petworthcommunitygarden.co.uk
END:VEVENT
BEGIN:VEVENT
DTSTART;TZID=Europe/London:20260613T113000
DTEND;TZID=Europe/London:20260613T143000
DTSTAMP:20260421T190850
CREATED:20260401T080320Z
LAST-MODIFIED:20260401T080320Z
UID:10029203-1781350200-1781361000@vantagepointmag.co.uk
SUMMARY:Forest Bathing in Shere – June Immersion
DESCRIPTION:Guided by experienced forest bathing practitioners\, this gentle 3-hour immersion invites you to slow down and reconnect with nature through your senses. Forest bathing (Shinrin-yoku) is not about distance or exertion\, but about mindful presence—breathing deeply\, noticing textures\, scents and birdsong\, and allowing the nervous system to settle. \nTaking place at the beautiful Harry Edwards Foundation\, this early summer session offers lush greenery\, dappled light and a rich tapestry of seasonal life. \nTo maintain a calm and undisturbed environment\, these sessions are designed for adults\, and we kindly ask that dogs are not brought along. \nSuitable for all\, no experience needed. Advance booking is required\, with bookings closing at 2pm the day before.
URL:https://vantagepointmag.co.uk/jottings/forest-bathing-in-shere-june-immersion/
LOCATION:Harry Edwards Foundation\, Burrows Lea Country House\, Hook Lane\, Shere\, Surrey\, GU5 9QG\, United Kingdom
ORGANIZER;CN="Harmony In Nature":MAILTO:katieandjo@harmonyinnature.uk
END:VEVENT
BEGIN:VEVENT
DTSTART;TZID=Europe/London:20260628T110000
DTEND;TZID=Europe/London:20260628T140000
DTSTAMP:20260421T190850
CREATED:20260331T143848Z
LAST-MODIFIED:20260331T143848Z
UID:10029139-1782644400-1782655200@vantagepointmag.co.uk
SUMMARY:Forest Bathing Among the Bluebells | £39.77
DESCRIPTION:Join a guided Forest Bathing experience in the tranquil grounds of Harry Edwards Foundation\, as spring bluebells begin to carpet the woodland. \nForest bathing is the mindful practice of slowing down in nature\, using your senses to fully engage with the woodland environment. Through a series of gentle guided invitations\, you’ll reconnect with the sights\, sounds and scents of the natural world while enjoying a relaxed walk through private woodland. \nThe session concludes with a deeply restorative ‘treelaxation’\, a guided meditation beneath the trees. Despite the name\, forest bathing involves no water—just a gentle immersion in nature. \nSpending time in woodland is known to support wellbeing\, helping to reduce stress\, support the immune system\, and restore balance to both body and mind. \nSessions run in most weather conditions (except high winds or storms)\, so please dress appropriately. \nBooking: via the Harmony Healing website (by 2pm the day before)
URL:https://vantagepointmag.co.uk/jottings/forest-bathing-among-the-bluebells-39-77/2026-06-28/
LOCATION:Harry Edwards Foundation\, Burrows Lea Country House\, Hook Lane\, Shere\, Surrey\, GU5 9QG\, United Kingdom
ATTACH;FMTTYPE=image/png:https://vantagepointmag.co.uk/wp-content/uploads/2026/03/Forest-Bathing-at-Harry-Edwards-26-4-26.png
ORGANIZER;CN="Harmony In Nature":MAILTO:katieandjo@harmonyinnature.uk
END:VEVENT
END:VCALENDAR