BEGIN:VCALENDAR
VERSION:2.0
PRODID:-//VantagePoint Magazine - ECPv6.15.20//NONSGML v1.0//EN
CALSCALE:GREGORIAN
METHOD:PUBLISH
X-WR-CALNAME:VantagePoint Magazine
X-ORIGINAL-URL:https://vantagepointmag.co.uk
X-WR-CALDESC:Events for VantagePoint Magazine
REFRESH-INTERVAL;VALUE=DURATION:PT1H
X-Robots-Tag:noindex
X-PUBLISHED-TTL:PT1H
BEGIN:VTIMEZONE
TZID:Europe/London
BEGIN:DAYLIGHT
TZOFFSETFROM:+0000
TZOFFSETTO:+0100
TZNAME:BST
DTSTART:20300331T010000
END:DAYLIGHT
BEGIN:STANDARD
TZOFFSETFROM:+0100
TZOFFSETTO:+0000
TZNAME:GMT
DTSTART:20301027T010000
END:STANDARD
BEGIN:DAYLIGHT
TZOFFSETFROM:+0000
TZOFFSETTO:+0100
TZNAME:BST
DTSTART:20310330T010000
END:DAYLIGHT
BEGIN:STANDARD
TZOFFSETFROM:+0100
TZOFFSETTO:+0000
TZNAME:GMT
DTSTART:20311026T010000
END:STANDARD
BEGIN:DAYLIGHT
TZOFFSETFROM:+0000
TZOFFSETTO:+0100
TZNAME:BST
DTSTART:20320328T010000
END:DAYLIGHT
BEGIN:STANDARD
TZOFFSETFROM:+0100
TZOFFSETTO:+0000
TZNAME:GMT
DTSTART:20321031T010000
END:STANDARD
END:VTIMEZONE
BEGIN:VEVENT
DTSTART;TZID=Europe/London:20310126T110000
DTEND;TZID=Europe/London:20310126T140000
DTSTAMP:20260421T130102
CREATED:20260331T143848Z
LAST-MODIFIED:20260331T143848Z
UID:10029194-1927191600-1927202400@vantagepointmag.co.uk
SUMMARY:Forest Bathing Among the Bluebells | £39.77
DESCRIPTION:Join a guided Forest Bathing experience in the tranquil grounds of Harry Edwards Foundation\, as spring bluebells begin to carpet the woodland. \nForest bathing is the mindful practice of slowing down in nature\, using your senses to fully engage with the woodland environment. Through a series of gentle guided invitations\, you’ll reconnect with the sights\, sounds and scents of the natural world while enjoying a relaxed walk through private woodland. \nThe session concludes with a deeply restorative ‘treelaxation’\, a guided meditation beneath the trees. Despite the name\, forest bathing involves no water—just a gentle immersion in nature. \nSpending time in woodland is known to support wellbeing\, helping to reduce stress\, support the immune system\, and restore balance to both body and mind. \nSessions run in most weather conditions (except high winds or storms)\, so please dress appropriately. \nBooking: via the Harmony Healing website (by 2pm the day before)
URL:https://vantagepointmag.co.uk/jottings/forest-bathing-among-the-bluebells-39-77/2031-01-26/
LOCATION:Harry Edwards Foundation\, Burrows Lea Country House\, Hook Lane\, Shere\, Surrey\, GU5 9QG\, United Kingdom
ATTACH;FMTTYPE=image/png:https://vantagepointmag.co.uk/wp-content/uploads/2026/03/Forest-Bathing-at-Harry-Edwards-26-4-26.png
ORGANIZER;CN="Harmony In Nature":MAILTO:katieandjo@harmonyinnature.uk
END:VEVENT
BEGIN:VEVENT
DTSTART;TZID=Europe/London:20310223T110000
DTEND;TZID=Europe/London:20310223T140000
DTSTAMP:20260421T130102
CREATED:20260331T143848Z
LAST-MODIFIED:20260331T143848Z
UID:10029195-1929610800-1929621600@vantagepointmag.co.uk
SUMMARY:Forest Bathing Among the Bluebells | £39.77
DESCRIPTION:Join a guided Forest Bathing experience in the tranquil grounds of Harry Edwards Foundation\, as spring bluebells begin to carpet the woodland. \nForest bathing is the mindful practice of slowing down in nature\, using your senses to fully engage with the woodland environment. Through a series of gentle guided invitations\, you’ll reconnect with the sights\, sounds and scents of the natural world while enjoying a relaxed walk through private woodland. \nThe session concludes with a deeply restorative ‘treelaxation’\, a guided meditation beneath the trees. Despite the name\, forest bathing involves no water—just a gentle immersion in nature. \nSpending time in woodland is known to support wellbeing\, helping to reduce stress\, support the immune system\, and restore balance to both body and mind. \nSessions run in most weather conditions (except high winds or storms)\, so please dress appropriately. \nBooking: via the Harmony Healing website (by 2pm the day before)
URL:https://vantagepointmag.co.uk/jottings/forest-bathing-among-the-bluebells-39-77/2031-02-23/
LOCATION:Harry Edwards Foundation\, Burrows Lea Country House\, Hook Lane\, Shere\, Surrey\, GU5 9QG\, United Kingdom
ATTACH;FMTTYPE=image/png:https://vantagepointmag.co.uk/wp-content/uploads/2026/03/Forest-Bathing-at-Harry-Edwards-26-4-26.png
ORGANIZER;CN="Harmony In Nature":MAILTO:katieandjo@harmonyinnature.uk
END:VEVENT
BEGIN:VEVENT
DTSTART;TZID=Europe/London:20310323T110000
DTEND;TZID=Europe/London:20310323T140000
DTSTAMP:20260421T130102
CREATED:20260331T143848Z
LAST-MODIFIED:20260331T143848Z
UID:10029196-1932030000-1932040800@vantagepointmag.co.uk
SUMMARY:Forest Bathing Among the Bluebells | £39.77
DESCRIPTION:Join a guided Forest Bathing experience in the tranquil grounds of Harry Edwards Foundation\, as spring bluebells begin to carpet the woodland. \nForest bathing is the mindful practice of slowing down in nature\, using your senses to fully engage with the woodland environment. Through a series of gentle guided invitations\, you’ll reconnect with the sights\, sounds and scents of the natural world while enjoying a relaxed walk through private woodland. \nThe session concludes with a deeply restorative ‘treelaxation’\, a guided meditation beneath the trees. Despite the name\, forest bathing involves no water—just a gentle immersion in nature. \nSpending time in woodland is known to support wellbeing\, helping to reduce stress\, support the immune system\, and restore balance to both body and mind. \nSessions run in most weather conditions (except high winds or storms)\, so please dress appropriately. \nBooking: via the Harmony Healing website (by 2pm the day before)
URL:https://vantagepointmag.co.uk/jottings/forest-bathing-among-the-bluebells-39-77/2031-03-23/
LOCATION:Harry Edwards Foundation\, Burrows Lea Country House\, Hook Lane\, Shere\, Surrey\, GU5 9QG\, United Kingdom
ATTACH;FMTTYPE=image/png:https://vantagepointmag.co.uk/wp-content/uploads/2026/03/Forest-Bathing-at-Harry-Edwards-26-4-26.png
ORGANIZER;CN="Harmony In Nature":MAILTO:katieandjo@harmonyinnature.uk
END:VEVENT
END:VCALENDAR