BEGIN:VCALENDAR
VERSION:2.0
PRODID:-//VantagePoint Magazine - ECPv6.15.20//NONSGML v1.0//EN
CALSCALE:GREGORIAN
METHOD:PUBLISH
X-WR-CALNAME:VantagePoint Magazine
X-ORIGINAL-URL:https://vantagepointmag.co.uk
X-WR-CALDESC:Events for VantagePoint Magazine
REFRESH-INTERVAL;VALUE=DURATION:PT1H
X-Robots-Tag:noindex
X-PUBLISHED-TTL:PT1H
BEGIN:VTIMEZONE
TZID:Europe/London
BEGIN:DAYLIGHT
TZOFFSETFROM:+0000
TZOFFSETTO:+0100
TZNAME:BST
DTSTART:20250330T010000
END:DAYLIGHT
BEGIN:STANDARD
TZOFFSETFROM:+0100
TZOFFSETTO:+0000
TZNAME:GMT
DTSTART:20251026T010000
END:STANDARD
BEGIN:DAYLIGHT
TZOFFSETFROM:+0000
TZOFFSETTO:+0100
TZNAME:BST
DTSTART:20260329T010000
END:DAYLIGHT
BEGIN:STANDARD
TZOFFSETFROM:+0100
TZOFFSETTO:+0000
TZNAME:GMT
DTSTART:20261025T010000
END:STANDARD
BEGIN:DAYLIGHT
TZOFFSETFROM:+0000
TZOFFSETTO:+0100
TZNAME:BST
DTSTART:20270328T010000
END:DAYLIGHT
BEGIN:STANDARD
TZOFFSETFROM:+0100
TZOFFSETTO:+0000
TZNAME:GMT
DTSTART:20271031T010000
END:STANDARD
END:VTIMEZONE
BEGIN:VEVENT
DTSTART;TZID=Europe/London:20260524T140000
DTEND;TZID=Europe/London:20260524T170000
DTSTAMP:20260420T151627
CREATED:20260309T090416Z
LAST-MODIFIED:20260309T090416Z
UID:10028688-1779631200-1779642000@vantagepointmag.co.uk
SUMMARY:The National Garden Scheme: 4 Hillside Cottages West Stoke: Open in aid of NGS charities
DESCRIPTION:4 Hillside Cottages\nDowns Road\, West Stoke\, Chichester\, PO18 9BL.\nOpens Sun 24 May\, Sun 7 June\, Sun 19 July\, Sun 16 Aug (2-5). Adm £5\, chd free. Home-made teas. Refreshments in aid of St Wilfrid’s Hospice. Visits also by arrangement 24 May to 16 Aug. \nIn a rural setting\, this stunning garden is densely planted with mixed borders and shrubs. It features a large collection of roses\, clematis\, fuchsias\, and dahlias\, creating a profusion of colour and scent in a beautifully maintained garden. Please visit www. ngs.org.uk for pop-up openings in June\, July\, and August. Please note: there are seven steps to access the garden. \nOccasionally garden openings need to be cancelled please always check on the NGS website ngs.org.uk \nhttps://findagarden.ngs.org.uk/garden/16613/4-hillside-cottages \nThanks to the generosity of garden owners\, volunteers and visitors The National Garden Scheme have donated over £77.8 million to nursing and health charities and in 2025 made an annual donation of over £3.8 million. The core beneficiaries include Carers Trust\, Macmillan Cancer Support\, Marie Curie\, Hospice UK\, Parkinson’s UK and The Queen’s Institute of Community Nursing. \nThe National Garden Scheme doesn’t just open beautiful gardens for charity – they are passionate about the physical and mental health benefits of gardens too. They also support charities doing amazing work in gardens and health and grant bursaries to help community gardening projects. \nTo learn more about the National Garden Scheme\, discover your perfect garden or find out how to open your own garden\, visit ngs.org.uk For gardens opening in Sussex\, pick up a copy of The National Garden Scheme Sussex Booklet\, available free from many local stores\, garden centres and libraries and as an online Flip Book\nhttps://www.galleries.co.uk/NGS/sussex26/ \nInstagram:\n➡️ https://www.instagram.com/sussexwestngs/ ￼ \nFacebook:\n➡️ https://www.facebook.com/sussexwestngs/ ￼
URL:https://vantagepointmag.co.uk/jottings/the-national-garden-scheme-4-hillside-cottages-west-stoke-open-in-aid-of-ngs-charities/2026-05-24/
LOCATION:4 Hillside Cottages  Downs Road West Stoke Chichester PO18 9BL
ATTACH;FMTTYPE=image/jpeg:https://vantagepointmag.co.uk/wp-content/uploads/2026/03/4-Hillside-Cottages-2.jpg
ORGANIZER;CN="National Garden Scheme%3A":MAILTO:hello@ngs.org.uk
END:VEVENT
BEGIN:VEVENT
DTSTART;TZID=Europe/London:20260607T140000
DTEND;TZID=Europe/London:20260607T170000
DTSTAMP:20260420T151627
CREATED:20260309T090416Z
LAST-MODIFIED:20260309T090416Z
UID:10028689-1780840800-1780851600@vantagepointmag.co.uk
SUMMARY:The National Garden Scheme: 4 Hillside Cottages West Stoke: Open in aid of NGS charities
DESCRIPTION:4 Hillside Cottages\nDowns Road\, West Stoke\, Chichester\, PO18 9BL.\nOpens Sun 24 May\, Sun 7 June\, Sun 19 July\, Sun 16 Aug (2-5). Adm £5\, chd free. Home-made teas. Refreshments in aid of St Wilfrid’s Hospice. Visits also by arrangement 24 May to 16 Aug. \nIn a rural setting\, this stunning garden is densely planted with mixed borders and shrubs. It features a large collection of roses\, clematis\, fuchsias\, and dahlias\, creating a profusion of colour and scent in a beautifully maintained garden. Please visit www. ngs.org.uk for pop-up openings in June\, July\, and August. Please note: there are seven steps to access the garden. \nOccasionally garden openings need to be cancelled please always check on the NGS website ngs.org.uk \nhttps://findagarden.ngs.org.uk/garden/16613/4-hillside-cottages \nThanks to the generosity of garden owners\, volunteers and visitors The National Garden Scheme have donated over £77.8 million to nursing and health charities and in 2025 made an annual donation of over £3.8 million. The core beneficiaries include Carers Trust\, Macmillan Cancer Support\, Marie Curie\, Hospice UK\, Parkinson’s UK and The Queen’s Institute of Community Nursing. \nThe National Garden Scheme doesn’t just open beautiful gardens for charity – they are passionate about the physical and mental health benefits of gardens too. They also support charities doing amazing work in gardens and health and grant bursaries to help community gardening projects. \nTo learn more about the National Garden Scheme\, discover your perfect garden or find out how to open your own garden\, visit ngs.org.uk For gardens opening in Sussex\, pick up a copy of The National Garden Scheme Sussex Booklet\, available free from many local stores\, garden centres and libraries and as an online Flip Book\nhttps://www.galleries.co.uk/NGS/sussex26/ \nInstagram:\n➡️ https://www.instagram.com/sussexwestngs/ ￼ \nFacebook:\n➡️ https://www.facebook.com/sussexwestngs/ ￼
URL:https://vantagepointmag.co.uk/jottings/the-national-garden-scheme-4-hillside-cottages-west-stoke-open-in-aid-of-ngs-charities/2026-06-07/
LOCATION:4 Hillside Cottages  Downs Road West Stoke Chichester PO18 9BL
ATTACH;FMTTYPE=image/jpeg:https://vantagepointmag.co.uk/wp-content/uploads/2026/03/4-Hillside-Cottages-2.jpg
ORGANIZER;CN="National Garden Scheme%3A":MAILTO:hello@ngs.org.uk
END:VEVENT
BEGIN:VEVENT
DTSTART;TZID=Europe/London:20260719T140000
DTEND;TZID=Europe/London:20260719T170000
DTSTAMP:20260420T151627
CREATED:20260309T090416Z
LAST-MODIFIED:20260309T090416Z
UID:10028690-1784469600-1784480400@vantagepointmag.co.uk
SUMMARY:The National Garden Scheme: 4 Hillside Cottages West Stoke: Open in aid of NGS charities
DESCRIPTION:4 Hillside Cottages\nDowns Road\, West Stoke\, Chichester\, PO18 9BL.\nOpens Sun 24 May\, Sun 7 June\, Sun 19 July\, Sun 16 Aug (2-5). Adm £5\, chd free. Home-made teas. Refreshments in aid of St Wilfrid’s Hospice. Visits also by arrangement 24 May to 16 Aug. \nIn a rural setting\, this stunning garden is densely planted with mixed borders and shrubs. It features a large collection of roses\, clematis\, fuchsias\, and dahlias\, creating a profusion of colour and scent in a beautifully maintained garden. Please visit www. ngs.org.uk for pop-up openings in June\, July\, and August. Please note: there are seven steps to access the garden. \nOccasionally garden openings need to be cancelled please always check on the NGS website ngs.org.uk \nhttps://findagarden.ngs.org.uk/garden/16613/4-hillside-cottages \nThanks to the generosity of garden owners\, volunteers and visitors The National Garden Scheme have donated over £77.8 million to nursing and health charities and in 2025 made an annual donation of over £3.8 million. The core beneficiaries include Carers Trust\, Macmillan Cancer Support\, Marie Curie\, Hospice UK\, Parkinson’s UK and The Queen’s Institute of Community Nursing. \nThe National Garden Scheme doesn’t just open beautiful gardens for charity – they are passionate about the physical and mental health benefits of gardens too. They also support charities doing amazing work in gardens and health and grant bursaries to help community gardening projects. \nTo learn more about the National Garden Scheme\, discover your perfect garden or find out how to open your own garden\, visit ngs.org.uk For gardens opening in Sussex\, pick up a copy of The National Garden Scheme Sussex Booklet\, available free from many local stores\, garden centres and libraries and as an online Flip Book\nhttps://www.galleries.co.uk/NGS/sussex26/ \nInstagram:\n➡️ https://www.instagram.com/sussexwestngs/ ￼ \nFacebook:\n➡️ https://www.facebook.com/sussexwestngs/ ￼
URL:https://vantagepointmag.co.uk/jottings/the-national-garden-scheme-4-hillside-cottages-west-stoke-open-in-aid-of-ngs-charities/2026-07-19/
LOCATION:4 Hillside Cottages  Downs Road West Stoke Chichester PO18 9BL
ATTACH;FMTTYPE=image/jpeg:https://vantagepointmag.co.uk/wp-content/uploads/2026/03/4-Hillside-Cottages-2.jpg
ORGANIZER;CN="National Garden Scheme%3A":MAILTO:hello@ngs.org.uk
END:VEVENT
BEGIN:VEVENT
DTSTART;TZID=Europe/London:20260816T140000
DTEND;TZID=Europe/London:20260816T170000
DTSTAMP:20260420T151627
CREATED:20260309T090416Z
LAST-MODIFIED:20260309T090416Z
UID:10028691-1786888800-1786899600@vantagepointmag.co.uk
SUMMARY:The National Garden Scheme: 4 Hillside Cottages West Stoke: Open in aid of NGS charities
DESCRIPTION:4 Hillside Cottages\nDowns Road\, West Stoke\, Chichester\, PO18 9BL.\nOpens Sun 24 May\, Sun 7 June\, Sun 19 July\, Sun 16 Aug (2-5). Adm £5\, chd free. Home-made teas. Refreshments in aid of St Wilfrid’s Hospice. Visits also by arrangement 24 May to 16 Aug. \nIn a rural setting\, this stunning garden is densely planted with mixed borders and shrubs. It features a large collection of roses\, clematis\, fuchsias\, and dahlias\, creating a profusion of colour and scent in a beautifully maintained garden. Please visit www. ngs.org.uk for pop-up openings in June\, July\, and August. Please note: there are seven steps to access the garden. \nOccasionally garden openings need to be cancelled please always check on the NGS website ngs.org.uk \nhttps://findagarden.ngs.org.uk/garden/16613/4-hillside-cottages \nThanks to the generosity of garden owners\, volunteers and visitors The National Garden Scheme have donated over £77.8 million to nursing and health charities and in 2025 made an annual donation of over £3.8 million. The core beneficiaries include Carers Trust\, Macmillan Cancer Support\, Marie Curie\, Hospice UK\, Parkinson’s UK and The Queen’s Institute of Community Nursing. \nThe National Garden Scheme doesn’t just open beautiful gardens for charity – they are passionate about the physical and mental health benefits of gardens too. They also support charities doing amazing work in gardens and health and grant bursaries to help community gardening projects. \nTo learn more about the National Garden Scheme\, discover your perfect garden or find out how to open your own garden\, visit ngs.org.uk For gardens opening in Sussex\, pick up a copy of The National Garden Scheme Sussex Booklet\, available free from many local stores\, garden centres and libraries and as an online Flip Book\nhttps://www.galleries.co.uk/NGS/sussex26/ \nInstagram:\n➡️ https://www.instagram.com/sussexwestngs/ ￼ \nFacebook:\n➡️ https://www.facebook.com/sussexwestngs/ ￼
URL:https://vantagepointmag.co.uk/jottings/the-national-garden-scheme-4-hillside-cottages-west-stoke-open-in-aid-of-ngs-charities/2026-08-16/
LOCATION:4 Hillside Cottages  Downs Road West Stoke Chichester PO18 9BL
ATTACH;FMTTYPE=image/jpeg:https://vantagepointmag.co.uk/wp-content/uploads/2026/03/4-Hillside-Cottages-2.jpg
ORGANIZER;CN="National Garden Scheme%3A":MAILTO:hello@ngs.org.uk
END:VEVENT
END:VCALENDAR