BEGIN:VCALENDAR
VERSION:2.0
PRODID:-//VantagePoint Magazine - ECPv6.15.20//NONSGML v1.0//EN
CALSCALE:GREGORIAN
METHOD:PUBLISH
X-WR-CALNAME:VantagePoint Magazine
X-ORIGINAL-URL:https://vantagepointmag.co.uk
X-WR-CALDESC:Events for VantagePoint Magazine
REFRESH-INTERVAL;VALUE=DURATION:PT1H
X-Robots-Tag:noindex
X-PUBLISHED-TTL:PT1H
BEGIN:VTIMEZONE
TZID:Europe/London
BEGIN:DAYLIGHT
TZOFFSETFROM:+0000
TZOFFSETTO:+0100
TZNAME:BST
DTSTART:20250330T010000
END:DAYLIGHT
BEGIN:STANDARD
TZOFFSETFROM:+0100
TZOFFSETTO:+0000
TZNAME:GMT
DTSTART:20251026T010000
END:STANDARD
BEGIN:DAYLIGHT
TZOFFSETFROM:+0000
TZOFFSETTO:+0100
TZNAME:BST
DTSTART:20260329T010000
END:DAYLIGHT
BEGIN:STANDARD
TZOFFSETFROM:+0100
TZOFFSETTO:+0000
TZNAME:GMT
DTSTART:20261025T010000
END:STANDARD
BEGIN:DAYLIGHT
TZOFFSETFROM:+0000
TZOFFSETTO:+0100
TZNAME:BST
DTSTART:20270328T010000
END:DAYLIGHT
BEGIN:STANDARD
TZOFFSETFROM:+0100
TZOFFSETTO:+0000
TZNAME:GMT
DTSTART:20271031T010000
END:STANDARD
END:VTIMEZONE
BEGIN:VEVENT
DTSTART;TZID=Europe/London:20260303T100000
DTEND;TZID=Europe/London:20260421T180000
DTSTAMP:20260421T142932
CREATED:20250924T145253Z
LAST-MODIFIED:20250924T145253Z
UID:10024489-1772532000-1776794400@vantagepointmag.co.uk
SUMMARY:Pete Jackman: Layers of the Land
DESCRIPTION:Pete Jackman’s paintings explore the shifting moods\, colours\, and textures of the British coastline and countryside. Known for his layered approach in oils\, Pete creates surfaces that echo the weathering of land and the passage of time. His work balances realism and abstraction\, capturing light\, atmosphere\, and a sense of place that invites quiet reflection. \nThis new collection brings together his much-admired coastal and rural scenes with fresh work inspired by a recent trip to the Suffolk coast. The paintings deepen his exploration of space and texture\, with subtle shifts in colour and form that heighten mood and memory. Whether evoking the solitude of an open shore or the stillness of a distant horizon\, Pete’s work captures landscapes shaped as much by experience as by observation. \nWe are showing Pete’s work alongside ceramics by Jessica Jordan. Her work takes aerial views of West Sussex landscapes\, downs\, seascapes and seasonal patterns\, and translates them into sculptural vessels\, wall hangings and bowls. Her pieces layer texture\, pattern and natural marks that recall erosion\, weathering and the passage of time.
URL:https://vantagepointmag.co.uk/jottings/pete-jackman-layers-of-the-land/2026-03-03/
LOCATION:New Ashgate Gallery\, Wagon Yard/Lower Church La\, Farnham\, GU9 7PS\, United Kingdom
ATTACH;FMTTYPE=image/jpeg:https://vantagepointmag.co.uk/wp-content/uploads/2025/09/Orford-Ness-Small-Oil-1.jpg
ORGANIZER;CN="New Ashgate Gallery":MAILTO:gallery@newashgate.org.uk
END:VEVENT
BEGIN:VEVENT
DTSTART;TZID=Europe/London:20260304T100000
DTEND;TZID=Europe/London:20260422T180000
DTSTAMP:20260421T142932
CREATED:20250924T145253Z
LAST-MODIFIED:20250924T145253Z
UID:10024490-1772618400-1776880800@vantagepointmag.co.uk
SUMMARY:Pete Jackman: Layers of the Land
DESCRIPTION:Pete Jackman’s paintings explore the shifting moods\, colours\, and textures of the British coastline and countryside. Known for his layered approach in oils\, Pete creates surfaces that echo the weathering of land and the passage of time. His work balances realism and abstraction\, capturing light\, atmosphere\, and a sense of place that invites quiet reflection. \nThis new collection brings together his much-admired coastal and rural scenes with fresh work inspired by a recent trip to the Suffolk coast. The paintings deepen his exploration of space and texture\, with subtle shifts in colour and form that heighten mood and memory. Whether evoking the solitude of an open shore or the stillness of a distant horizon\, Pete’s work captures landscapes shaped as much by experience as by observation. \nWe are showing Pete’s work alongside ceramics by Jessica Jordan. Her work takes aerial views of West Sussex landscapes\, downs\, seascapes and seasonal patterns\, and translates them into sculptural vessels\, wall hangings and bowls. Her pieces layer texture\, pattern and natural marks that recall erosion\, weathering and the passage of time.
URL:https://vantagepointmag.co.uk/jottings/pete-jackman-layers-of-the-land/2026-03-04/
LOCATION:New Ashgate Gallery\, Wagon Yard/Lower Church La\, Farnham\, GU9 7PS\, United Kingdom
ATTACH;FMTTYPE=image/jpeg:https://vantagepointmag.co.uk/wp-content/uploads/2025/09/Orford-Ness-Small-Oil-1.jpg
ORGANIZER;CN="New Ashgate Gallery":MAILTO:gallery@newashgate.org.uk
END:VEVENT
BEGIN:VEVENT
DTSTART;TZID=Europe/London:20260305T100000
DTEND;TZID=Europe/London:20260423T180000
DTSTAMP:20260421T142932
CREATED:20250924T145253Z
LAST-MODIFIED:20250924T145253Z
UID:10024491-1772704800-1776967200@vantagepointmag.co.uk
SUMMARY:Pete Jackman: Layers of the Land
DESCRIPTION:Pete Jackman’s paintings explore the shifting moods\, colours\, and textures of the British coastline and countryside. Known for his layered approach in oils\, Pete creates surfaces that echo the weathering of land and the passage of time. His work balances realism and abstraction\, capturing light\, atmosphere\, and a sense of place that invites quiet reflection. \nThis new collection brings together his much-admired coastal and rural scenes with fresh work inspired by a recent trip to the Suffolk coast. The paintings deepen his exploration of space and texture\, with subtle shifts in colour and form that heighten mood and memory. Whether evoking the solitude of an open shore or the stillness of a distant horizon\, Pete’s work captures landscapes shaped as much by experience as by observation. \nWe are showing Pete’s work alongside ceramics by Jessica Jordan. Her work takes aerial views of West Sussex landscapes\, downs\, seascapes and seasonal patterns\, and translates them into sculptural vessels\, wall hangings and bowls. Her pieces layer texture\, pattern and natural marks that recall erosion\, weathering and the passage of time.
URL:https://vantagepointmag.co.uk/jottings/pete-jackman-layers-of-the-land/2026-03-05/
LOCATION:New Ashgate Gallery\, Wagon Yard/Lower Church La\, Farnham\, GU9 7PS\, United Kingdom
ATTACH;FMTTYPE=image/jpeg:https://vantagepointmag.co.uk/wp-content/uploads/2025/09/Orford-Ness-Small-Oil-1.jpg
ORGANIZER;CN="New Ashgate Gallery":MAILTO:gallery@newashgate.org.uk
END:VEVENT
BEGIN:VEVENT
DTSTART;TZID=Europe/London:20260306T100000
DTEND;TZID=Europe/London:20260424T180000
DTSTAMP:20260421T142932
CREATED:20250924T145253Z
LAST-MODIFIED:20250924T145253Z
UID:10024492-1772791200-1777053600@vantagepointmag.co.uk
SUMMARY:Pete Jackman: Layers of the Land
DESCRIPTION:Pete Jackman’s paintings explore the shifting moods\, colours\, and textures of the British coastline and countryside. Known for his layered approach in oils\, Pete creates surfaces that echo the weathering of land and the passage of time. His work balances realism and abstraction\, capturing light\, atmosphere\, and a sense of place that invites quiet reflection. \nThis new collection brings together his much-admired coastal and rural scenes with fresh work inspired by a recent trip to the Suffolk coast. The paintings deepen his exploration of space and texture\, with subtle shifts in colour and form that heighten mood and memory. Whether evoking the solitude of an open shore or the stillness of a distant horizon\, Pete’s work captures landscapes shaped as much by experience as by observation. \nWe are showing Pete’s work alongside ceramics by Jessica Jordan. Her work takes aerial views of West Sussex landscapes\, downs\, seascapes and seasonal patterns\, and translates them into sculptural vessels\, wall hangings and bowls. Her pieces layer texture\, pattern and natural marks that recall erosion\, weathering and the passage of time.
URL:https://vantagepointmag.co.uk/jottings/pete-jackman-layers-of-the-land/2026-03-06/
LOCATION:New Ashgate Gallery\, Wagon Yard/Lower Church La\, Farnham\, GU9 7PS\, United Kingdom
ATTACH;FMTTYPE=image/jpeg:https://vantagepointmag.co.uk/wp-content/uploads/2025/09/Orford-Ness-Small-Oil-1.jpg
ORGANIZER;CN="New Ashgate Gallery":MAILTO:gallery@newashgate.org.uk
END:VEVENT
BEGIN:VEVENT
DTSTART;TZID=Europe/London:20260307T100000
DTEND;TZID=Europe/London:20260425T180000
DTSTAMP:20260421T142932
CREATED:20250924T145253Z
LAST-MODIFIED:20250924T145253Z
UID:10024493-1772877600-1777140000@vantagepointmag.co.uk
SUMMARY:Pete Jackman: Layers of the Land
DESCRIPTION:Pete Jackman’s paintings explore the shifting moods\, colours\, and textures of the British coastline and countryside. Known for his layered approach in oils\, Pete creates surfaces that echo the weathering of land and the passage of time. His work balances realism and abstraction\, capturing light\, atmosphere\, and a sense of place that invites quiet reflection. \nThis new collection brings together his much-admired coastal and rural scenes with fresh work inspired by a recent trip to the Suffolk coast. The paintings deepen his exploration of space and texture\, with subtle shifts in colour and form that heighten mood and memory. Whether evoking the solitude of an open shore or the stillness of a distant horizon\, Pete’s work captures landscapes shaped as much by experience as by observation. \nWe are showing Pete’s work alongside ceramics by Jessica Jordan. Her work takes aerial views of West Sussex landscapes\, downs\, seascapes and seasonal patterns\, and translates them into sculptural vessels\, wall hangings and bowls. Her pieces layer texture\, pattern and natural marks that recall erosion\, weathering and the passage of time.
URL:https://vantagepointmag.co.uk/jottings/pete-jackman-layers-of-the-land/2026-03-07/
LOCATION:New Ashgate Gallery\, Wagon Yard/Lower Church La\, Farnham\, GU9 7PS\, United Kingdom
ATTACH;FMTTYPE=image/jpeg:https://vantagepointmag.co.uk/wp-content/uploads/2025/09/Orford-Ness-Small-Oil-1.jpg
ORGANIZER;CN="New Ashgate Gallery":MAILTO:gallery@newashgate.org.uk
END:VEVENT
END:VCALENDAR